BEGIN:VCALENDAR
VERSION:2.0
PRODID:-//City Tattersalls Club - ECPv4.6.11.1//NONSGML v1.0//EN
CALSCALE:GREGORIAN
METHOD:PUBLISH
X-WR-CALNAME:City Tattersalls Club
X-ORIGINAL-URL:https://citytatts.com.au
X-WR-CALDESC:Events for City Tattersalls Club
BEGIN:VEVENT
DTSTART;VALUE=DATE:20180224
DTEND;VALUE=DATE:20180225
DTSTAMP:20180224T065909
CREATED:20171206T220045Z
LAST-MODIFIED:20171206T220045Z
UID:31433-1519430400-1519516799@citytatts.com.au
SUMMARY:Super Rugby
DESCRIPTION:Half-price drinks from 7:15pm until the first try in the second half in any match from Friday to Saturday! \n
URL:https://citytatts.com.au/event/super-rugby-2/2018-02-24/
LOCATION:Level 1\, 194-204 Pitt Street\, Sydney\, NSW\, 2000\, Australia
GEO:-33.870962;151.208597
X-APPLE-STRUCTURED-LOCATION;VALUE=URI;X-ADDRESS=Level 1 194-204 Pitt Street Sydney NSW 2000 Australia;X-APPLE-RADIUS=500;X-TITLE=Level 1\, 194-204 Pitt Street:geo:151.208597,-33.870962
CATEGORIES:Drinks,Sports
ATTACH;FMTTYPE=image/jpeg:https://citytatts.com.au/wp-content/uploads/2017/02/LimeBar_Rugby_Resizes_WebEventSquare.jpg
END:VEVENT
BEGIN:VEVENT
DTSTART;TZID=Australia/Sydney:20180225T113000
DTEND;TZID=Australia/Sydney:20180225T143000
DTSTAMP:20180224T065909
CREATED:20180207T230329Z
LAST-MODIFIED:20180207T230329Z
UID:31758-1519558200-1519569000@citytatts.com.au
SUMMARY:All You Can Eat Buffet
DESCRIPTION:Every Sunday in Zest Kitchen enjoy an all you can eat buffet from 11.30am to 2.30pm.\n$35 Adults | $15 Children.\nBookings essential here. \n
URL:https://citytatts.com.au/event/can-eat-buffet/2018-02-25/
LOCATION:Level 1\, 194-204 Pitt Street\, Sydney\, NSW\, 2000\, Australia
GEO:-33.870962;151.208597
X-APPLE-STRUCTURED-LOCATION;VALUE=URI;X-ADDRESS=Level 1 194-204 Pitt Street Sydney NSW 2000 Australia;X-APPLE-RADIUS=500;X-TITLE=Level 1\, 194-204 Pitt Street:geo:151.208597,-33.870962
CATEGORIES:Dining
ATTACH;FMTTYPE=image/jpeg:https://citytatts.com.au/wp-content/uploads/2018/02/AllYouCanEat_Resizes_WebEventSquare.jpg
END:VEVENT
BEGIN:VEVENT
DTSTART;TZID=Australia/Sydney:20180226T190000
DTEND;TZID=Australia/Sydney:20180226T190000
DTSTAMP:20180224T065909
CREATED:20170503T004724Z
LAST-MODIFIED:20170503T004724Z
UID:31317-1519671600-1519671600@citytatts.com.au
SUMMARY:CT Rewards Draws
DESCRIPTION:Total $3\,000 in prizes to be won\, Members earn entries by swiping their cards at the kiosk on Mondays. \nBlack: receive 3 entries when they swipe their card between 9am and 1pm and 3pm and 9.15pm\nDiamond: receive 2 entries when they swipe their card between 9am and 1pm and 3pm and 9.15pm\nEmerald: receive 1 entry when they swipe their card between 9am and 1pm and 3pm and 9.15pm \nDraws take place at: \n\n7.00pm – $200 EFTPOS CARD\n7.30pm – $300 EFTPOS CARD\n8.00pm – $400 EFTPOS CARD\n8.30pm – $500 EFTPOS CARD\n9.00pm – $600 EFTPOS CARD\nFINAL DRAW – 9.30PM – $1\,000 EFTPOS CARD\n\nMember must be present to win!\nPromotion runs 4/12/17 to 26/2/18. Terms and conditions available at the Customer Service Centre.\nTerms and conditions apply. Authorised under LTPS/17/20220\nThink! About your choices Call Gambling Help on 1800 858 858 www.gamblinghelp.nsw.gov.au \n
URL:https://citytatts.com.au/event/ct-rewards-draws/2018-02-26/
LOCATION:Ground Floor\, 194-204 Pitt Street\, Sydney\, NSW\, 2000\, Australia
GEO:-33.871179;151.2086
X-APPLE-STRUCTURED-LOCATION;VALUE=URI;X-ADDRESS=Ground Floor 194-204 Pitt Street Sydney NSW 2000 Australia;X-APPLE-RADIUS=500;X-TITLE=Ground Floor\, 194-204 Pitt Street:geo:151.2086,-33.871179
CATEGORIES:Silks
ATTACH;FMTTYPE=image/jpeg:https://citytatts.com.au/wp-content/uploads/2017/05/CT_Rewards_Draw_RESIZES_WebEventSquare.jpg
END:VEVENT
BEGIN:VEVENT
DTSTART;TZID=Australia/Sydney:20180228T183000
DTEND;TZID=Australia/Sydney:20180228T183000
DTSTAMP:20180224T065909
CREATED:20171206T220054Z
LAST-MODIFIED:20171208T040255Z
UID:31392-1519842600-1519842600@citytatts.com.au
SUMMARY:Lime Bar Trivia Nights
DESCRIPTION:WIN A $50 BAR TAB EACH WEEK WITH OUR FUN and CHALLENGING INTERaCTIVE QUIZ! \nTHINK YOU’VE GOT ALL THE ANSWERS?\nJOIN US ON WEDNESDAYS AT 6:30PM IN LIME BAR FROM JANUARY 10TH 2018 \n
URL:https://citytatts.com.au/event/trivia/2018-02-28/
LOCATION:Level 1\, 194-204 Pitt Street\, Sydney\, NSW\, 2000\, Australia
GEO:-33.870962;151.208597
X-APPLE-STRUCTURED-LOCATION;VALUE=URI;X-ADDRESS=Level 1 194-204 Pitt Street Sydney NSW 2000 Australia;X-APPLE-RADIUS=500;X-TITLE=Level 1\, 194-204 Pitt Street:geo:151.208597,-33.870962
CATEGORIES:Trivia
ATTACH;FMTTYPE=image/jpeg:https://citytatts.com.au/wp-content/uploads/2017/06/LimeBar_Trivia_Resizes_WebEventSquare.jpg
END:VEVENT
BEGIN:VEVENT
DTSTART;TZID=Australia/Sydney:20180308T180000
DTEND;TZID=Australia/Sydney:20180308T210000
DTSTAMP:20180224T065909
CREATED:20171026T023748Z
LAST-MODIFIED:20180221T034457Z
UID:31808-1520532000-1520542800@citytatts.com.au
SUMMARY:Marie Le Brun
DESCRIPTION:With over a decade of performances in the Australian music scene\, Marie Le Brun is a dynamic and engaging performer.\nWith smooth vocal delivery and incredible range\, Le Brun accompanies herself on piano\, blending all aspects of the music in an interwoven partnership. From up-beat swing numbers to heartbreaking ballads\, Le Brun has a freedom of melodic interpretation that is captivating yet she never strays from delivering the story of a song\, taking you on a lyrical and melodic journey from start to finish.\nEvery second Thursday in the Lower Bar\, Le Brun brings you all your favourite jazz standards and pop classics. Sit back with a glass of wine whilst enjoying the refrains of songs made famous by Ella Fitzgerald\, Doris Day\, Nina Simone\, Ray Charles\, Amy Winehouse and many more. \n
URL:https://citytatts.com.au/event/marie-le-brun/2018-03-08/
LOCATION:Ground Floor\, 194-204 Pitt Street\, Sydney\, NSW\, 2000\, Australia
GEO:-33.871179;151.2086
X-APPLE-STRUCTURED-LOCATION;VALUE=URI;X-ADDRESS=Ground Floor 194-204 Pitt Street Sydney NSW 2000 Australia;X-APPLE-RADIUS=500;X-TITLE=Ground Floor\, 194-204 Pitt Street:geo:151.2086,-33.871179
CATEGORIES:Live Music
ATTACH;FMTTYPE=image/jpeg:https://citytatts.com.au/wp-content/uploads/2017/10/ResidentActs_MaireLeBurn_Square.jpg
END:VEVENT
BEGIN:VEVENT
DTSTART;TZID=Australia/Sydney:20180308T191500
DTEND;TZID=Australia/Sydney:20180308T191500
DTSTAMP:20180224T065909
CREATED:20171208T220017Z
LAST-MODIFIED:20171210T015437Z
UID:27996-1520536500-1520536500@citytatts.com.au
SUMMARY:NRL
DESCRIPTION:Half Price Drinks from 7.15pm until the First Try in the second half from Thursday – Saturday. \nCity Tattersalls Club encourages the responsible consumption of alcohol. \n
URL:https://citytatts.com.au/event/nrl/2018-03-08/
LOCATION:Level 1\, 194-204 Pitt Street\, Sydney\, NSW\, 2000\, Australia
GEO:-33.870962;151.208597
X-APPLE-STRUCTURED-LOCATION;VALUE=URI;X-ADDRESS=Level 1 194-204 Pitt Street Sydney NSW 2000 Australia;X-APPLE-RADIUS=500;X-TITLE=Level 1\, 194-204 Pitt Street:geo:151.208597,-33.870962
CATEGORIES:Drinks,Sports
ATTACH;FMTTYPE=image/jpeg:https://citytatts.com.au/wp-content/uploads/2017/12/LimeBar_NRL_Resizes_WebEventSquare.jpg
END:VEVENT
BEGIN:VEVENT
DTSTART;TZID=Australia/Sydney:20180309T200000
DTEND;TZID=Australia/Sydney:20180309T200000
DTSTAMP:20180224T065909
CREATED:20170906T222316Z
LAST-MODIFIED:20171201T021858Z
UID:30188-1520625600-1520625600@citytatts.com.au
SUMMARY:José Feliciano
DESCRIPTION:José Feliciano remains one of the greatest Singer/ Guitarist/ Songwriters of our time. Appearing with special guest Wendy Matthews. \nBuy tickets here $152pp inc. Zest Kitchen dinner or buy tickets here $157pp inc. Esperanto dinner. Show goers are advised to be seated for dinner from 5.30pm. \nTickets must be purchased by Friday 12 January 2018. Don’t miss out! \nFor further information or any other show queries\, please contact Customer Service on (02) 9267 9421. \n
URL:https://citytatts.com.au/event/jose-feliciano/
LOCATION:Level 1\, 194-204 Pitt Street\, Sydney\, NSW\, 2000\, Australia
GEO:-33.870962;151.208597
X-APPLE-STRUCTURED-LOCATION;VALUE=URI;X-ADDRESS=Level 1 194-204 Pitt Street Sydney NSW 2000 Australia;X-APPLE-RADIUS=500;X-TITLE=Level 1\, 194-204 Pitt Street:geo:151.208597,-33.870962
CATEGORIES:Dinner and Show
ATTACH;FMTTYPE=image/jpeg:https://citytatts.com.au/wp-content/uploads/2017/09/WebEvent_Square_JoseFeliciano.jpg
END:VEVENT
BEGIN:VEVENT
DTSTART;TZID=Australia/Sydney:20180317T193000
DTEND;TZID=Australia/Sydney:20180317T193000
DTSTAMP:20180224T065909
CREATED:20171120T200027Z
LAST-MODIFIED:20180214T003433Z
UID:4202-1521315000-1521315000@citytatts.com.au
SUMMARY:RSVP Singles Event
DESCRIPTION:Show your cheeky side and take a chance on meeting your new flame. You don’t have to be an RSVP member to attend\, so bring a single friend and create double the mischief! \nFind out if you have the spark straight away and take the pressure out of meeting new singles. Live DJ entertainment and great prize giveaways! \nThis fantastic night includes: \n\nMusic and dancing\nRSVP hosted cheeky match up games\n100s of singles\nHot Prizes\n\nRSVP members and non members can Buy Tickets here for $15 or Door tickets on the night for $20. All online bookings include a free drink* \n*house wine\, beer\, soft drink. \n
URL:https://citytatts.com.au/event/rsvp-singles/
LOCATION:194-204 Pitt Street\, Sydney\, NSW\, 2000\, Australia
GEO:-33.871179;151.2086
X-APPLE-STRUCTURED-LOCATION;VALUE=URI;X-ADDRESS=194-204 Pitt Street Sydney NSW 2000 Australia;X-APPLE-RADIUS=500;X-TITLE=194-204 Pitt Street:geo:151.2086,-33.871179
CATEGORIES:RSVP
ATTACH;FMTTYPE=image/jpeg:https://citytatts.com.au/wp-content/uploads/2017/05/RSVP_Square.jpg
END:VEVENT
BEGIN:VEVENT
DTSTART;TZID=Australia/Sydney:20180322T191500
DTEND;TZID=Australia/Sydney:20180322T191500
DTSTAMP:20180224T065909
CREATED:20171208T220034Z
LAST-MODIFIED:20171210T014338Z
UID:28111-1521746100-1521746100@citytatts.com.au
SUMMARY:AFL
DESCRIPTION:Half Price Drinks from 7.15pm until the first goal in the third quarter in any match from Thursday to Saturday. \nCity Tattersalls Club encourages the responsible consumption of alcohol. \n
URL:https://citytatts.com.au/event/afl/2018-03-22/
LOCATION:Level 1\, 194-204 Pitt Street\, Sydney\, NSW\, 2000\, Australia
GEO:-33.870962;151.208597
X-APPLE-STRUCTURED-LOCATION;VALUE=URI;X-ADDRESS=Level 1 194-204 Pitt Street Sydney NSW 2000 Australia;X-APPLE-RADIUS=500;X-TITLE=Level 1\, 194-204 Pitt Street:geo:151.208597,-33.870962
CATEGORIES:Drinks,Sports
ATTACH;FMTTYPE=image/jpeg:https://citytatts.com.au/wp-content/uploads/2017/12/LimeBar_AFL_Resizes_WebEventSquare.jpg
END:VEVENT
BEGIN:VEVENT
DTSTART;TZID=Australia/Sydney:20180324T203000
DTEND;TZID=Australia/Sydney:20180324T203000
DTSTAMP:20180224T065909
CREATED:20180205T050718Z
LAST-MODIFIED:20180206T220417Z
UID:31740-1521923400-1521923400@citytatts.com.au
SUMMARY:Nilda Moya "La Pirilacha"
DESCRIPTION:50 Años de Carrera Artistica. | Buy tickets here $30pp. Doors open 7.00pm\, show commences 8.30pm. \nUnallocated tickets must be purchased by Saturday 24 March 2018. Don’t miss out! \nFor further information or any other show queries\, please contact Customer Service on (02) 9267 9421. \n
URL:https://citytatts.com.au/event/nilda-moya-la-prilacha/
LOCATION:Level 1\, 194-204 Pitt Street\, Sydney\, NSW\, 2000\, Australia
GEO:-33.870962;151.208597
X-APPLE-STRUCTURED-LOCATION;VALUE=URI;X-ADDRESS=Level 1 194-204 Pitt Street Sydney NSW 2000 Australia;X-APPLE-RADIUS=500;X-TITLE=Level 1\, 194-204 Pitt Street:geo:151.208597,-33.870962
CATEGORIES:Live Music
ATTACH;FMTTYPE=image/jpeg:https://citytatts.com.au/wp-content/uploads/2018/02/HomenajeANildaMoya_WebisiteEventSquare.jpg
END:VEVENT
BEGIN:VEVENT
DTSTART;TZID=Australia/Sydney:20180412T200000
DTEND;TZID=Australia/Sydney:20180412T200000
DTSTAMP:20180224T065909
CREATED:20171203T232026Z
LAST-MODIFIED:20171203T232026Z
UID:31226-1523563200-1523563200@citytatts.com.au
SUMMARY:Mamma Mia!
DESCRIPTION:Over 60 million people all around the globe have fallen in love with the story and the music that makes MAMMA MIA! the ultimate feel-good musical. And now\, in a stunning new production\, we invite you to fall in love all over again! \nVoulez Vous\, S.O.S\, Take a Chance On Me\, Dancing Queen and so many more hits you know and love make this worldwide phenomenon a fabulous night out for audiences of all ages. A celebration of love\, laughter\, family and friendship\, MAMMA MIA! is exactly what the world needs right now. \nSet on a Greek island paradise and inspired by the story-telling magic of ABBA’s timeless songs\, writer Catherine Johnson’s heart-warming tale centres around Sophie\, a young bride- to-be. On the eve of her wedding\, Sophie’s quest to discover the identity of her father brings three men from her mother’s past back to the island they last visited 20 years ago. \nSecure your tickets now; only $156pp inc. Esperanto dinner or $151pp inc. Zest dinner. Show goers are advised to be seated for dinner from 5.30pm. \nTickets must be purchased by Friday 16 February 2018. Don’t miss out! \nFor further information or any other show queries\, please contact Customer Service on (02) 9267 9421. \n
URL:https://citytatts.com.au/event/mamma-mia/
LOCATION:Level 1\, 194-204 Pitt Street\, Sydney\, NSW\, 2000\, Australia
GEO:-33.870962;151.208597
X-APPLE-STRUCTURED-LOCATION;VALUE=URI;X-ADDRESS=Level 1 194-204 Pitt Street Sydney NSW 2000 Australia;X-APPLE-RADIUS=500;X-TITLE=Level 1\, 194-204 Pitt Street:geo:151.208597,-33.870962
CATEGORIES:Dinner and Show
ATTACH;FMTTYPE=image/jpeg:https://citytatts.com.au/wp-content/uploads/2017/12/WebEventSquare_MammaMia.jpg
END:VEVENT
BEGIN:VEVENT
DTSTART;TZID=Australia/Sydney:20180919T190000
DTEND;TZID=Australia/Sydney:20180919T190000
DTSTAMP:20180224T065909
CREATED:20171125T054915Z
LAST-MODIFIED:20171128T010245Z
UID:31209-1537383600-1537383600@citytatts.com.au
SUMMARY:Jersey Boys
DESCRIPTION:Jersey Boys tells the true-life story of four guys from the wrong side of the tracks\, the rise to stardom of Frankie Valli and The Four Seasons\, one of the most successful bands in pop music history. The band sold more than 175 million records and were inducted into the Rock ‘n’ Roll Hall of Fame for their worldwide hits\, including Can’t Take My Eyes Off You\, Walk Like a Man\, Bye Bye Baby\, Sherry and Big Girls Don’t Cry\, which all feature in the musical. \nHave we got a ticket for you! here only $150pp inc. Zest Kitchen dinner. Show goers are advised to be seated for dinner from 5.30pm. \nTickets must be purchased by Friday 27 July 2018. Don’t miss out! \nFor further information or any other show queries\, please contact Customer Service on (02) 9267 9421. \n
URL:https://citytatts.com.au/event/jersey-boys/
LOCATION:Level 1\, 194-204 Pitt Street\, Sydney\, NSW\, 2000\, Australia
GEO:-33.870962;151.208597
X-APPLE-STRUCTURED-LOCATION;VALUE=URI;X-ADDRESS=Level 1 194-204 Pitt Street Sydney NSW 2000 Australia;X-APPLE-RADIUS=500;X-TITLE=Level 1\, 194-204 Pitt Street:geo:151.208597,-33.870962
CATEGORIES:Dinner and Show
ATTACH;FMTTYPE=image/jpeg:https://citytatts.com.au/wp-content/uploads/2017/11/WebEventSquare_JerseyBoys.jpg
END:VEVENT
END:VCALENDAR